BEGIN:VCALENDAR
VERSION:2.0
PRODID:icalendar-ruby
CALSCALE:GREGORIAN
BEGIN:VEVENT
DTSTAMP:20260424T201758Z
UID:9ec055ad-1793-4c1e-91df-bbe6b1ee1a8a
DTSTART:20260524T090000
DTEND:20260524T150000
DESCRIPTION:https://fetzer-veranstaltungen.de/index.php\nFetzer GmbH Verans
 talterRaiffeisenstr. 5Immenstadt 87509 Deutschland\nTel: 08323 96 74 14E-M
 ail: info@fetzermessen.de
LOCATION:Kemptener Straße 107 87629 
SUMMARY:Flohmarkt Füssen V-Markt
END:VEVENT
END:VCALENDAR
