BEGIN:VCALENDAR
VERSION:2.0
PRODID:icalendar-ruby
CALSCALE:GREGORIAN
BEGIN:VEVENT
DTSTAMP:20260424T192159Z
UID:5b924e13-ae5e-4c81-9275-e7334aa7ea6b
DTSTART:20260815T090000
DTEND:20260815T150000
DESCRIPTION:https://fetzer-veranstaltungen.de/index.php\nFetzer GmbH Verans
 talterRaiffeisenstr. 5Immenstadt 87509 Deutschland\nTel: 08323 96 74 14E-M
 ail: info@fetzermessen.de
LOCATION:Kemptener Straße 107 87629 
SUMMARY:Flohmarkt Füssen V-Markt
END:VEVENT
END:VCALENDAR
