BEGIN:VCALENDAR
VERSION:2.0
PRODID:icalendar-ruby
CALSCALE:GREGORIAN
BEGIN:VEVENT
DTSTAMP:20260424T190517Z
UID:92b86176-1a58-4ac6-b4f7-c29c06cc295e
DTSTART:20260816T090000
DTEND:20260816T150000
DESCRIPTION:https://fetzer-veranstaltungen.de/index.php\nFetzer GmbH Verans
 talterRaiffeisenstr. 5Immenstadt 87509 Deutschland\nTel: 08323 96 74 14E-M
 ail: info@fetzermessen.de
LOCATION:Kemptener Straße 107 87629 
SUMMARY:Flohmarkt Füssen V-Markt
END:VEVENT
END:VCALENDAR
