BEGIN:VCALENDAR
VERSION:2.0
PRODID:icalendar-ruby
CALSCALE:GREGORIAN
BEGIN:VEVENT
DTSTAMP:20260424T174101Z
UID:b51f14bf-a1db-4848-ab7a-9a567ae079e0
DTSTART:20261003T090000
DTEND:20261003T150000
DESCRIPTION:https://fetzer-veranstaltungen.de/index.php\nFetzer GmbH Verans
 talterRaiffeisenstr. 5Immenstadt 87509 Deutschland\nTel: 08323 96 74 14E-M
 ail: info@fetzermessen.de
LOCATION:Kemptener Straße 107 87629 
SUMMARY:Flohmarkt Füssen V-Markt
END:VEVENT
END:VCALENDAR
