BEGIN:VCALENDAR
VERSION:2.0
PRODID:icalendar-ruby
CALSCALE:GREGORIAN
BEGIN:VEVENT
DTSTAMP:20260424T190444Z
UID:e14ac18f-df46-46a5-91aa-c7c0199108af
DTSTART:20261004T090000
DTEND:20261004T150000
DESCRIPTION:https://fetzer-veranstaltungen.de/index.php\nFetzer GmbH Verans
 talterRaiffeisenstr. 5Immenstadt 87509 Deutschland\nTel: 08323 96 74 14E-M
 ail: info@fetzermessen.de
LOCATION:Kemptener Straße 107 87629 
SUMMARY:Flohmarkt Füssen V-Markt
END:VEVENT
END:VCALENDAR
