BEGIN:VCALENDAR
VERSION:2.0
PRODID:icalendar-ruby
CALSCALE:GREGORIAN
BEGIN:VEVENT
DTSTAMP:20260424T185750Z
UID:bca91186-6652-43a0-b530-1e8558be735d
DTSTART:20260501T090000
DTEND:20260501T150000
DESCRIPTION:https://fetzer-veranstaltungen.de/index.php\nFetzer GmbH Verans
 talterRaiffeisenstr. 5Immenstadt 87509 Deutschland\nTel: 08323 96 74 14E-M
 ail: info@fetzermessen.de
LOCATION:Viehmarktplatz Badeweg 5 87509 
SUMMARY:Flohmarkt Immenstadt Viehmarktplatz
END:VEVENT
END:VCALENDAR
