BEGIN:VCALENDAR
VERSION:2.0
PRODID:icalendar-ruby
CALSCALE:GREGORIAN
BEGIN:VEVENT
DTSTAMP:20260424T185908Z
UID:3fb7d2f7-ae6b-49a2-82b3-154e3f31d977
DTSTART:20260606T080000
DTEND:20260606T150000
DESCRIPTION:https://fetzer-veranstaltungen.de/index.php\nFetzer GmbH Verans
 talterRaiffeisenstr. 5Immenstadt 87509 Deutschland\nTel: 08323 96 74 14E-M
 ail: info@fetzermessen.de
LOCATION:Viehmarktplatz Badeweg 5 87509 
SUMMARY:Flohmarkt Immenstadt Viehmarktplatz
END:VEVENT
END:VCALENDAR
