BEGIN:VCALENDAR
VERSION:2.0
PRODID:icalendar-ruby
CALSCALE:GREGORIAN
BEGIN:VEVENT
DTSTAMP:20260424T174123Z
UID:4b9d4e9d-2a98-4a89-a5d2-7977f314212e
DTSTART:20260905T080000
DTEND:20260905T150000
DESCRIPTION:https://fetzer-veranstaltungen.de/index.php\nFetzer GmbH Verans
 talterRaiffeisenstr. 5Immenstadt 87509 Deutschland\nTel: 08323 96 74 14E-M
 ail: info@fetzermessen.de
LOCATION:Viehmarktplatz Badeweg 5 87509 
SUMMARY:Flohmarkt Immenstadt Viehmarktplatz
END:VEVENT
END:VCALENDAR
