BEGIN:VCALENDAR
VERSION:2.0
PRODID:icalendar-ruby
CALSCALE:GREGORIAN
BEGIN:VEVENT
DTSTAMP:20260424T185131Z
UID:df734198-2a34-4fb5-bb7b-254bf56f148a
DTSTART:20260906T090000
DTEND:20260906T150000
DESCRIPTION:https://fetzer-veranstaltungen.de/index.php\nFetzer GmbH Verans
 talterRaiffeisenstr. 5Immenstadt 87509 Deutschland\nTel: 08323 96 74 14E-M
 ail: info@fetzermessen.de
LOCATION:Viehmarktplatz Badeweg 5 87509 
SUMMARY:Flohmarkt Immenstadt Viehmarktplatz
END:VEVENT
END:VCALENDAR
