BEGIN:VCALENDAR
VERSION:2.0
PRODID:icalendar-ruby
CALSCALE:GREGORIAN
BEGIN:VEVENT
DTSTAMP:20260424T185939Z
UID:aec107c9-b3f1-4be2-840d-67d31f4fb8b3
DTSTART:20261003T090000
DTEND:20261003T150000
DESCRIPTION:https://fetzer-veranstaltungen.de/index.php\nFetzer GmbH Verans
 talterRaiffeisenstr. 5Immenstadt 87509 Deutschland\nTel: 08323 96 74 14E-M
 ail: info@fetzermessen.de
LOCATION:Viehmarktplatz Badeweg 5 87509 
SUMMARY:Flohmarkt Immenstadt Viehmarktplatz
END:VEVENT
END:VCALENDAR
