BEGIN:VCALENDAR
VERSION:2.0
PRODID:icalendar-ruby
CALSCALE:GREGORIAN
BEGIN:VEVENT
DTSTAMP:20260424T192341Z
UID:ee0bb537-745a-4439-9724-b432ce5facd9
DTSTART:20260425T150000
DTEND:20260425T190000
DESCRIPTION:https://fetzer-veranstaltungen.de/index.php\nFetzer GmbH Verans
 talterRaiffeisenstr. 5Immenstadt 87509 Deutschland\nTel: 08323 96 74 14E-M
 ail: info@fetzermessen.de
LOCATION:Am Königsplatz 3 87435 
SUMMARY:Mädelsflohmarkt Kempten Markthalle
END:VEVENT
END:VCALENDAR
