BEGIN:VCALENDAR
VERSION:2.0
PRODID:icalendar-ruby
CALSCALE:GREGORIAN
BEGIN:VEVENT
DTSTAMP:20260424T190241Z
UID:d2f56c40-4465-4c61-9c87-fdd6f544e3d6
DTSTART:20260515T080000
DTEND:20260515T150000
DESCRIPTION:https://fetzer-veranstaltungen.de/index.php\nFetzer GmbH Verans
 taltungenRaiffeisenstr. 587509 Immenstadt Deutschland\nTel: 08323 96 74 14
 E-Mail: info@fetzer-veranstaltungen.de
LOCATION:In der Neuen Welt 6 87700 
SUMMARY:Flohmarkt Memmingen Stadtpark Neue Welt
END:VEVENT
END:VCALENDAR
