BEGIN:VCALENDAR
VERSION:2.0
PRODID:icalendar-ruby
CALSCALE:GREGORIAN
BEGIN:VEVENT
DTSTAMP:20260424T190302Z
UID:3f449c30-1a34-4d30-b1f5-218f8727a92a
DTSTART:20260516T080000
DTEND:20260516T150000
DESCRIPTION:https://fetzer-veranstaltungen.de/index.php\nFetzer GmbH Verans
 taltungenRaiffeisenstr. 587509 Immenstadt Deutschland\nTel: 08323 96 74 14
 E-Mail: info@fetzer-veranstaltungen.de
LOCATION:In der Neuen Welt 6 87700 
SUMMARY:Flohmarkt Memmingen Stadtpark Neue Welt
END:VEVENT
END:VCALENDAR
