BEGIN:VCALENDAR
VERSION:2.0
PRODID:icalendar-ruby
CALSCALE:GREGORIAN
BEGIN:VEVENT
DTSTAMP:20260424T174030Z
UID:51b4c682-9327-4a72-a474-1db92a15d61d
DTSTART:20260703T080000
DTEND:20260703T150000
DESCRIPTION:https://fetzer-veranstaltungen.de/index.php\nFetzer GmbH Verans
 taltungenRaiffeisenstr. 587509 Immenstadt Deutschland\nTel: 08323 96 74 14
 E-Mail: info@fetzer-veranstaltungen.de
LOCATION:In der Neuen Welt 6 87700 
SUMMARY:Flohmarkt Memmingen Stadtpark Neue Welt
END:VEVENT
END:VCALENDAR
