BEGIN:VCALENDAR
VERSION:2.0
PRODID:icalendar-ruby
CALSCALE:GREGORIAN
BEGIN:VEVENT
DTSTAMP:20260424T185749Z
UID:5ee87fea-42ca-4e8e-a866-0841ab29c07a
DTSTART:20260704T080000
DTEND:20260704T150000
DESCRIPTION:https://fetzer-veranstaltungen.de/index.php\nFetzer GmbH Verans
 taltungenRaiffeisenstr. 587509 Immenstadt Deutschland\nTel: 08323 96 74 14
 E-Mail: info@fetzer-veranstaltungen.de
LOCATION:In der Neuen Welt 6 87700 
SUMMARY:Flohmarkt Memmingen Stadtpark Neue Welt
END:VEVENT
END:VCALENDAR
