BEGIN:VCALENDAR
VERSION:2.0
PRODID:icalendar-ruby
CALSCALE:GREGORIAN
BEGIN:VEVENT
DTSTAMP:20260424T203857Z
UID:25a02e02-475a-4e71-b511-1eab13887006
DTSTART:20260904T080000
DTEND:20260904T150000
DESCRIPTION:https://fetzer-veranstaltungen.de/index.php\nFetzer GmbH Verans
 taltungenRaiffeisenstr. 587509 Immenstadt Deutschland\nTel: 08323 96 74 14
 E-Mail: info@fetzer-veranstaltungen.de
LOCATION:In der Neuen Welt 6 87700 
SUMMARY:Flohmarkt Memmingen Stadtpark Neue Welt
END:VEVENT
END:VCALENDAR
