BEGIN:VCALENDAR
VERSION:2.0
PRODID:icalendar-ruby
CALSCALE:GREGORIAN
BEGIN:VEVENT
DTSTAMP:20260421T221609Z
UID:0b807abc-ad36-4edd-b86e-04acb5cd02cd
DTSTART:20261101T100000
DTEND:20261101T143000
DESCRIPTION:Von Eltern für Eltern\nDer piratini-markt im Elbe-Einkaufszent
 rum in Hamburg\nDer von Eltern für Eltern organisierte piratini-markt\, N
 orddeutschlands großer Secondhand-Markt für alles „rund ums Kind“\, 
 findet viermal im Jahr in den Gängen des ELBE Einkaufszentrums statt. Jew
 eils in der Zeit von 10 - 14.30 Uhr bietet sich so eine tolle Möglichkeit
 \, an 400 Verkaufstischen die jeweils benötigte Kleidung\, Spielzeug\, Ki
 nderbücher\, Fahrräder etc.  für die Kleinen als Schnäppchen zu ergat
 tern. \nViele Eltern kennen das\, die Kleinen wachsen so schnell aus den 
 Sachen raus\, das neue Spielzeug ist nur für einen kurzen Zeitraum intere
 ssant\, schnell stapeln sich die Dinge in Kellern oder Dachböden.Hier bie
 tet der piratini-markt eine tolle Möglichkeit\,  dies alles – wetterun
 abhängig\, warm und trocken – anderen Eltern zum Kauf anzubieten.Das al
 les ohne Streß\, der Aufbau ist ab 8.00 Uhr\, die Tische und Stühle werd
 en vom Veranstalter gestellt. man braucht also nur noch gute Laune und das
  mitbringen\, was man verkaufen möchte.\nFür die Besucher gibt es ein se
 hr breites Angebot\, von Umstandsmode und der Erstlingsausstattung über K
 leidung bis Größe 176 (auch Zwillingseltern verkaufen)\, bis hin zu Kind
 erwagen\, Buggys\, Kinderfahrräder\, Roller\, Laufräder\, Bobbycars etc.
 . Natürlich gibt es auch ein riesiges Angebot an Spielzeug in allen Varia
 tionen.\nDer Besuch des piratini-markts wird also zum Ausflug für die gan
 ze Familie.\nSchwangere mit einer Begleitperson erhalten unter Vorlage ihr
 es Mutterpasses schon ab 9.30 Uhr Einlass.\nEs stehen über 2.200 Parkplä
 tze in zwei Parkhäusern am ELBE Einkaufszentrum zur Verfügung. \n!!! Ti
 schbuchungen nur per Onlineformular unter www.piratini-markt.de !!!
LOCATION:Julius-Brecht-Straße  22609 Bezirk Altona
SUMMARY:piratini-markt im ELBE Einkaufszentrum
END:VEVENT
END:VCALENDAR
