BEGIN:VCALENDAR
VERSION:2.0
PRODID:icalendar-ruby
CALSCALE:GREGORIAN
BEGIN:VEVENT
DTSTAMP:20260421T215018Z
UID:2cebe018-5d23-40e5-8060-29cfd3111cd1
DTSTART:20260830T110000
DTEND:20260830T150000
DESCRIPTION: \nVon Eltern für Eltern\npiratini-markt im ausgebauten Weser
 park (69.000 qm)\n Der von Eltern für Eltern organisierte piratini-markt
 \, Norddeutschlands großer Secondhand-Markt für alles „rund ums Kind
 “\, findet mehrmals im Jahr in den Gängen des Weserparks statt. Von 11.
 00 – 15.00 Uhr bietet sich so eine tolle Möglichkeit\, die jeweils ben
 ötigte Kleidung\, Spielzeug\, Kinderbücher\, Fahrräder etc.  für die 
 Kleinen als Schnäppchen zu ergattern.\nViele Eltern kennen das\, die Klei
 nen wachsen so schnell aus den Sachen raus\, das neue Spielzeug ist nur f
 ür einen kurzen Zeitraum interessant\, schnell stapeln sich die Dinge in 
 Kellern oder Dachböden.Hier bietet der piratini-markt eine tolle Möglich
 keit\,  dies alles – wetterunabhängig\, warm und trocken – anderen E
 ltern zum Kauf anzubieten.\nFür die Besucher gibt es ein sehr breites Ang
 ebot\, von Umstandsmode und der Erstlingsausstattung über Kleidung bis Gr
 öße 176 (auch Zwillingseltern verkaufen)\, bis hin zu Kinderwagen\, Bugg
 ys\, Kinderfahrräder\, Roller\, Laufräder\, Bobbycars etc.. Natürlich g
 ibt es auch ein riesiges Angebot an Spielzeug in allen Variationen.\nDer B
 esuch des piratini-markts wird also zum Ausflug für die ganze Familie.\nS
 chwangere mit einer Begleitperson erhalten unter Vorlage ihres Mutterpasse
 s schon ab 10.30 Uhr Einlass.\nDie 4.700 Parkplätze des Weserparks sind n
 atürlich für die Verkäufer und die Besucher kostenlos.\n \n!!! Tischbu
 chungen nur per Onlineformular unter www.piratini-markt.de !!!\n 
LOCATION:Hans-Bredow-Straße 19A 28307 Osterholz
SUMMARY:piratini-markt im Weserpark
END:VEVENT
END:VCALENDAR
