BEGIN:VCALENDAR
VERSION:2.0
PRODID:icalendar-ruby
CALSCALE:GREGORIAN
BEGIN:VEVENT
DTSTAMP:20260424T085049Z
UID:b09079ec-ef1d-43b8-8605-8c68fa5b5030
DTSTART:20260705T110000
DTEND:20260705T170000
DESCRIPTION:Mega- Flohmarkt- Event\, absolutes Highlight! Sehr großer\, gu
 t besuchter Flohmarkt! Jeder kann ohne Anmeldung mitmachen! Einfach vorbei
 kommen! Es gibt genug Platz für alle! Platzvergabe ab 7 Uhr! Unser Mitarb
 eiter zeigt Ihnen Ihren Standplatz! Aufbau ab 10 Uhr! Verkauf von 11- 17 U
 hr! Standmiete € 10\,- pro Meter! Bezahlung vor Ort! Fahrzeug kostenlos 
 am Stand!\nBis dann!\nDer Markt findet bei jedem Wetter statt!\n \nJetzt 
 neu: Besuche www.gerosflohmarkt.de und verkaufe kostenlos Deine Sachen onl
 ine!\nGerosFlohmarkt.de - Flohmärkte und kostenlose Kleinanzeigen!
LOCATION:Adolf-Kolping-Straße 175 67433 
SUMMARY:Neustadt\, Globus- Warenhaus\, Riesen- Flohmarkt! findet statt! Ohn
 e Anmeldung! Einfach vorbeikommen!
END:VEVENT
END:VCALENDAR
