BEGIN:VCALENDAR
VERSION:2.0
PRODID:icalendar-ruby
CALSCALE:GREGORIAN
BEGIN:VEVENT
DTSTAMP:20260424T025445Z
UID:b020f3f5-c62f-4565-8448-1b60ad5162dc
DTSTART:20261004T110000
DTEND:20261004T180000
DESCRIPTION:Großer\, gut besuchter Flohmarkt! Sehr gute Lage!\nJeder kann 
 ohne Anmeldung mitmachen! Einfach vorbeikommen! Es gibt genug Platz für a
 lle! Platzvergabe ab 7 Uhr! Ein Mitarbeiter zeigt Ihnen Ihren Standplatz! 
 Der Markt findet bei jedem Wetter statt! \nStandmiete € 10\,- pro Meter
 ! Bezahlung vor Ort! Fahrzeug kostenlos am Stand! Bis dann!\n \nJetzt neu
 : Besuche www.gerosflohmarkt.de und verkaufe kostenlos Deine Sachen online
 !\nGerosFlohmarkt.de - Flohmärkte und kostenlose Kleinanzeigen!
LOCATION:Bahnhofstraße 22 72116 
SUMMARY:Mössingen\, REWE\, Großer Flohmarkt! Findet statt! Ohne Anmeldung
 ! Ohne Termin! Einfach vorbeikommen!
END:VEVENT
END:VCALENDAR
