BEGIN:VCALENDAR
VERSION:2.0
PRODID:icalendar-ruby
CALSCALE:GREGORIAN
BEGIN:VEVENT
DTSTAMP:20260424T084934Z
UID:fa7ff75e-74bb-4029-90a4-b67b161d243e
DTSTART:20260927T110000
DTEND:20260927T170000
DESCRIPTION:Großer Flohmarkt zum verkaufsoffenen Sonntag und Auftakt zum C
 annstatter Wasen! Besuchermassen!\nJeder kann ohne Anmeldung mitmachen! Ei
 nfach vorbeikommen! Platzvergabe zwischen 6 und 8 Uhr morgens (unbedingt i
 n dieser Zeit erscheinen!)! Ein Mitarbeiter zeigt Ihnen Ihren Standplatz! 
 € 10\,- pro Meter! Bezahlung der Standmiete vor Ort! Auto kostenlos am S
 tand!\nDer Markt findet bei jedem Wetter statt! \nBis dann!\n \n \nJetz
 t neu: Besuche www.gerosflohmarkt.de und verkaufe kostenlos Deine Sachen o
 nline!\nGerosFlohmarkt.de - Flohmärkte und kostenlose Kleinanzeigen!
LOCATION:Daimlerstraße 104 70372 Bad Cannstatt
SUMMARY:Stuttgart- Bad Cannstatt\, toom- Baumarkt\, großer Flohmarkt! Find
 et statt! Ohne Voranmeldung! Ohne Termin! Einfach vorbeikommen!
END:VEVENT
END:VCALENDAR
