BEGIN:VCALENDAR
VERSION:2.0
PRODID:icalendar-ruby
CALSCALE:GREGORIAN
BEGIN:VEVENT
DTSTAMP:20260424T102056Z
UID:b10d7bb2-d127-4ab3-ad48-6f936271c62b
DTSTART:20261003T070000
DTEND:20261003T160000
DESCRIPTION:Trödel-/Flohmarkt auf dem ehemaligem Gelände des Fahrschulüb
 ungsplatz von Lauta.\nPostadresse\nStraße der Freundschaft 95\nGPS:    
 Straße der Freundschaft 81\nVerkauf von Spielzeug\, Kleidung\, Gegenstän
 den aus Haus und Hof und Kindersachen\;\nEinlass ab 7:00 Uhr\nVerkaufab 9:
 00 Uhr bis 16:00 Uhr\;     \nje nach Wetter und Besucherstrom bis 17:00
  Uhr \nStandgebühren  : 3m = 10€\n         weitere Tische an der
  Seite 15€ und           dahinter \n          U-Form  x 15
 €\n         darüber hinaus 20€\nImbiss auf dem Gelände vorhande
 n.\nWir bitten um Voranmeldung mit Größenangabe.\n 
LOCATION:Straße der Freundschaft 95 02991 
SUMMARY:Trödel-/ Flohmarkt auf dem ehemaligen Fahrschulübungsplatz  
END:VEVENT
END:VCALENDAR
