BEGIN:VCALENDAR
VERSION:2.0
PRODID:icalendar-ruby
CALSCALE:GREGORIAN
BEGIN:VEVENT
DTSTAMP:20260420T141055Z
UID:499c6af3-962f-419a-a4ae-671cad12b666
DTSTART:20260606T070000
DTEND:20260606T180000
DESCRIPTION:In der City  St.Wendel /Parkdeck Mott \, Floh-Trödel-KHW-Anti
 kmarkt jedes 1.Wochenende im Monat  ab Feb.-Nov..  STANDMIETE lfm. Sa. 6
 \,-€ /So.8\,-€ \,die Kaution von 10\, € wird nach Platzvergabe kassi
 ert und ab 16 Uhr \,bei sauberem Platz zurück bezahlt. Müll bitte mit ne
 hmen !!     Einlaß/Platzvergabe :Sa.7 Uhr mit direktem Standaufbau /So.
  8 Uhr So.Aufbau 8 Uhr.                         
                                      
              PLATZVERGABE AUSSCHLIEßLICH NUR MIT VORANMELDUNG
 -RESERVIERUNG!--Plätze die durch Bestelltung reserviert wurden\,aber dann
  nicht erscheinen oder rechtzeitig absagen (mind.3 Tage vorher)werden Kost
 enpflichtig in Rechnung gestellt.\nACHTUNG : Infos und Anmeldungen ausschl
 ießlich telefonisch Mo.-Do. bis 17 Uhr unter 06843 800844 U.Wöhling( Ma
 rktleitung )Bei extrem schlechter Witterung und Schnee\, betrifft vor alle
 m die Wintermonate\, bitte Anfragen ob Markt statt findet. \nIm Zweifel b
 itte Rücksprache halten unter angegebener Tel.Nr. Auf jedem Markt ist die
  Marktordnung die Grundlage des Marktes\, der Folge zu leisten ist. Diese 
 kann vor Marktbeginn\, bei der Marktleitung eingesehen werden !\nACHTUNG 
 : Veranstaltungsort/Platz kann sich ändern\,da die Stadt St.WND auch auf 
 der Mott ihre Veranstaltungen hat/Terminüberschneidung. Wir bekommen dann
  einen Ausweichplatz! Betrifft auf alle Fälle den Juni-Termin.Kirmesplatz
  -Missionshausstr. Daher immer vor der Anfahrt Platz/Ort erfragen unter de
 r angegebenen Tel. oder der örtlichen Beschilderung folgen . Händler (au
 ch Stammhändler)die bei Einlaß nicht da sind \, bekommen Restplätze.VIE
 LEN DANK\n 
LOCATION:Zur Mott  66606 City
SUMMARY:Flohmarkt auf der Mott
END:VEVENT
END:VCALENDAR
