BEGIN:VCALENDAR
VERSION:2.0
PRODID:icalendar-ruby
CALSCALE:GREGORIAN
BEGIN:VEVENT
DTSTAMP:20260421T124544Z
UID:9ed3a645-13aa-4a94-b3c0-edd7a432c48a
DTSTART:20260712T110000
DTEND:20260712T180000
DESCRIPTION:Regelmäßig stattfindender Trödelmarkt mit großflächiger Ü
 berdachung. Gerade bei schönem Wetter findet man hier viele private Ausst
 eller welche ihre ganz persönlichen Schätze anbieten aber auch interessa
 nte Neuwartenstände sind vertreten.\nNutzen Sie die Gelegenheit Dinge die
  Sie nicht mehr benötigen zu Geld zu machen - oder Sie sind privater (Hob
 by-)Trödler oder wollen ein solcher werden\, dann sind Sie natürlich auc
 h herzlich willkomen.\nParken BesucherParkplätze für Besucher befinden s
 ich auf dem Veranstaltungsgelände\, darüber hinaus können die benachbar
 ten Parkplätze genutzt werden.\nStandplatzreservierungenüber unser Büro
 : bis Freitag vor dem Markt 12 Uhrvor Ort: Samstag 17 Uhr\, Sonntag ab 7 U
 hr\nParken Aussteller / PKW am StandGenerell können Sie Ihr Fahrzeug quer
  hinter dem Stand parken sofern die Länge des Fahrzeuges der Standlänge 
 entspricht (z. B. Golf-Größe ab 4 lfd. Metern / Kombi ab 5 lfd. Metern).
  Fragen Sie im Zweifel gerne die Marktleitung vor Ort bzw. entnehmen Sie d
 ie Länge Ihres Fahrzeuges dem Fahrzeugschein.\nStandaufbauAb 7 Uhr - jedo
 ch nicht vor Eintreffen der Marktleitung (erkennbar an der gelben Weste / 
 rotes T-Shirt bzw. Pullover)\nVerkaufszeit11 bis 18 Uhr\, Abbau ab 16 Uhr 
 möglich\nStandmietenGrundgebühr / Stand: 5€lfd. Meter Trödel 11€lfd
 . Meter Neuware 17€lfd. Meter Textil / Lederwaren / Werkzeug 19€Eckpla
 tzzuschlag: 20€Reinigungskaution: 5€ (bei sauberem Verlassen zurück)A
 ngebot: 5 Mtr. Trödel nur 40€ (überdacht 45€)\n \n \n \nWeitere I
 nfos auf unserer Homepage www.rieder-maerkte.de (einfach unten auf "Homepa
 ge des Veranstalters" klicken). \n 
LOCATION:Humboldtstraße 17-19 52525 Heinsberg
SUMMARY:KAUFLAND Heinsberg überdacht (vorm. real\,-)
END:VEVENT
END:VCALENDAR
