BEGIN:VCALENDAR
VERSION:2.0
PRODID:icalendar-ruby
CALSCALE:GREGORIAN
BEGIN:VEVENT
DTSTAMP:20260424T221824Z
UID:0f166575-5174-4e9b-a953-2c8657987291
DTSTART:20261108T100000
DTEND:20261108T170000
DESCRIPTION:Stoff und Tuchmarkt in Bad Godesberg\nBunte Stoffe und eine sch
 öne AtmosphäreDer Deutsch Holländische Stoffmarkt kommt nach Bad Godesb
 erg Zwei mal im Jahr\, lockt der beliebte Deutsch Holländische Stoff- un
 d Tuchmarkt erneut tausende Besucher nach Bad Godesberg. Der mit 120 Stän
 den stärkste und vielseitigste Stoffmarkt der Region ist seit Jahren ein 
 absoluter Publikumsmagnet. Die umfassende Bandbreite des Angebots und sehr
  attraktive Preise wissen Hobbyschneider-innen zu schätzen. Bei vielen S
 toffbegeisterten steht der Termin schon seit Monaten im Kalender\, denn da
 nn wird der Theaterplatz von Bad Godesberg zwischen 11 und 17 Uhr mit Mete
 rweise bunten Stoffen und Tüchern geschmückt sein. Hier gibt es alles\, 
 was das Hobby-Schneiderherz begehrt: Garne\, Knöpfe und Reisverschlüsse 
 genauso wie Mode- oder Dekostoffe. Zahlreiche Stoffspezialitäten aus dem 
 Bereich Patchwork\, sowie Schnittmuster und Applikationen vervollständige
 n die riesige Auswahl und eröffnen unzählige Gestaltungsmöglichkeiten.
  Die große Auswahl an bunten Mustern und Motiven lässt wenige Wünsche 
 offen und auch für Kinder ist der richtige Stoff schnell gefunden. Natür
 lich wird den Besuchern auch vieles für die Innenraum-Gestaltung geboten.
  Ein neuer Bezug für die Polster\, modische Gardinen oder ein interessant
 er Tischläufer\, der Kreativität kann hier freien Lauf gelassen werden. 
 Neben der Möglichkeit zum Einkauf nutzen viele Hobbyschneiderinnen den Ma
 rkt auch um sich zu treffen\, zu fachsimpeln oder sich einfach auszutausch
 en.Schon jetzt versprechen die Aussteller wieder viele besondere Angebote 
 und Schnäppchen. Die Besucher wird's freuen. Auch in Bad Godesberg ist de
 r Nähmaschinenhersteller Elna mit einem Info Stand vertreten. Hier haben 
 die Besucher die Möglichkeit sich ausführlich über die gesamte Produktp
 alette beraten zu lassen. Zudem erhält jeder die Chance vor Ort eine wert
 volle Nähmaschine der Schweizer Traditionsmarke zu gewinnen. 
LOCATION:Theaterplatz 22 53177 Bad Godesberg
SUMMARY:Stoffmarkt
END:VEVENT
END:VCALENDAR
