BEGIN:VCALENDAR
VERSION:2.0
PRODID:icalendar-ruby
CALSCALE:GREGORIAN
BEGIN:VEVENT
DTSTAMP:20260422T071428Z
UID:ba58778d-1793-4adb-9daf-69744a2d2a3e
DTSTART:20260517T110000
DTEND:20260517T160000
DESCRIPTION:Infos unter www.richter-troedelmaerkte.de oder 02843/903 6 903
LOCATION:Düsseldorfer Straße 400 47055 Duisburg Mitte
SUMMARY:Hornbach DU-Wanheimerort
END:VEVENT
END:VCALENDAR
