BEGIN:VCALENDAR
VERSION:2.0
PRODID:icalendar-ruby
CALSCALE:GREGORIAN
BEGIN:VEVENT
DTSTAMP:20260420T213227Z
UID:aee04f67-bb71-4e8e-987b-3e0d1bd545d6
DTSTART:20260712T110000
DTEND:20260712T160000
DESCRIPTION:Infos unter www.richter-troedelmaerkte.de oder 02843/903 6 903
LOCATION:Düsseldorfer Straße 400 47055 Duisburg Mitte
SUMMARY:Hornbach DU-Wanheimerort
END:VEVENT
END:VCALENDAR
