BEGIN:VCALENDAR
VERSION:2.0
PRODID:icalendar-ruby
CALSCALE:GREGORIAN
BEGIN:VEVENT
DTSTAMP:20260424T193508Z
UID:007ff103-d766-4577-b22f-893d8c04b6eb
DTSTART:20260516T110000
DTEND:20260516T150000
DESCRIPTION:https://fetzer-veranstaltungen.de/index.php\nFetzer GmbH Verans
 talterRaiffeisenstr. 5Immenstadt 87509 Deutschland\nTel: 08323 96 74 14E-M
 ail: info@fetzermessen.de
LOCATION:Memminger Straße 137 87439 Halden
SUMMARY:Mädelsflohmarkt Kempten Eisstadion
END:VEVENT
END:VCALENDAR
