BEGIN:VCALENDAR
VERSION:2.0
PRODID:icalendar-ruby
CALSCALE:GREGORIAN
BEGIN:VEVENT
DTSTAMP:20260424T185756Z
UID:ccd04e43-a866-4e44-8787-ae0f390852d4
DTSTART:20260613T110000
DTEND:20260613T150000
DESCRIPTION:https://fetzer-veranstaltungen.de/index.php\nFetzer GmbH Verans
 talterRaiffeisenstr. 5Immenstadt 87509 Deutschland\nTel: 08323 96 74 14E-M
 ail: info@fetzermessen.de
LOCATION:Memminger Straße 137 87439 Halden
SUMMARY:Mädelsflohmarkt Kempten Eisstadion
END:VEVENT
END:VCALENDAR
