BEGIN:VCALENDAR
VERSION:2.0
PRODID:icalendar-ruby
CALSCALE:GREGORIAN
BEGIN:VEVENT
DTSTAMP:20260420T102621Z
UID:0a7d3fae-3c17-40a3-a9c1-074dd2bf33bb
DTSTART:20260501T080000
DTEND:20260501T160000
DESCRIPTION:Enkler - Einer der günstigsten Veranstalter Süddeutschlands. 
 Bekannt für gutbesuchte und umsatzstarke Floh-\, Trödel-\, Sammler- und 
 Jahrmärkte in Ihrer Nähe. Bekannt und bewährt seit über 20 Jahren!!!We
 itere Infos unter: www.markt-enkler.deGerne beantworten wir Ihre Fragen\, 
 schreiben Sie uns einfach eine Email:enklers-maerkte@web.de
LOCATION:Brauhausstraße 20 91522 
SUMMARY:Ansbach E-Center
END:VEVENT
END:VCALENDAR
