BEGIN:VCALENDAR
VERSION:2.0
PRODID:icalendar-ruby
CALSCALE:GREGORIAN
BEGIN:VEVENT
DTSTAMP:20260424T084942Z
UID:6f85ad59-8999-4faf-8b78-4dadce6d4a1b
DTSTART:20260503T070000
DTEND:20260503T150000
DESCRIPTION:Wo:             - Schulstr. 12 Niederkrüchten-Elmpt\n
                       Adolph - Kolping - Platz\nWir b
 ieten:  \n                    - Marktgelände gepflast
 ert\n                    - kostenloser Besucherparkplatz
  gepflastert\n                    - 50 % Rabatt Aktion\
 n                    - Toilette\nWir suchen:\n    
                 - für unsere monatlich stattfindenden Mär
 kte\,\n                      Trödel-\,  Antik-\, No
 stalgika-\, und\n                      Kuriositätenhän
 dler aller Art.\n                    - Exklusive und au
 ßergewöhnliche Anbieter werden\n                    
   bevorzugt.\n                    - Wir betonen ausdr
 ücklich das auf unseren \n                      Trö
 delmärkten keine Neuwarenverkäufer\n                  
     zugelassen sind.\nAnsonsten kann jeder mitmachen der seinen Trödel
  aus\, Keller\, Dachboden\, Garage oder auch Wohnzimmer  "vertrödeln" m
 öchte.\nAuf Grund der großen Nachfrage von Standplätzen ist es ratsam I
 hren Platz rechtzeitig zu reservieren.\nPlatzreservierung nur gegen Vorkas
 se.\nPlatzvergabe\, am Samstag vor dem Markt ab 16:00 Uhr auf dem Veransta
 ltungsgelände.\nUnsere Preise:\n                    
    Pro laufendem Meter 10\,- €\n                   
     5 Meter mit Auto am Stand 35\,- €\, jeder weitere Meter 10\,- €
 \n \nFür alle weiteren Fragen stehen wir Ihnen unter 0163 - 313 66 88 ge
 rne zur Verfügung.\n \nIhr NetteTrödel\nDer NetteTrödel mit Herz
LOCATION:Schulstraße 12 41372 
SUMMARY:Antik und Trödelmarkt NetteTrödel Elmpt
END:VEVENT
END:VCALENDAR
