BEGIN:VCALENDAR
VERSION:2.0
PRODID:icalendar-ruby
CALSCALE:GREGORIAN
BEGIN:VEVENT
DTSTAMP:20260420T221739Z
UID:9267832a-cfd4-410a-930a-657b7e328f9d
DTSTART:20260906T110000
DTEND:20260906T143000
DESCRIPTION:65. SIKU Börse Schwerte\n14.09.2025 - Rohrmeisterei\, Schwerte
 \nÖffnungszeiten 11:00 - 14:30\nHändlereinlass ab 09:00\nEintrittspreis\
 nErwachsene = 5 €\nEhepaare = 8 €\nKinder (bis 14 Jahre) frei\nStandge
 ld: auf Anfrage\nAnmeldung\nSandra Donis-Franzmann\n0172-9034139\nAnfahrt 
 mit dem Auto: A45 oder A1 Ausfahrt Schwerte\, Hinweisschilder Rohrmeistere
 i\nAnfahrt mit der Bahn: Bis Schwerte Bahnhof\, dann etwa 10 Minuten Fussw
 eg\n \n 
LOCATION:Ruhrstraße 20 58239 
SUMMARY: SIKU Börse Schwerte
END:VEVENT
END:VCALENDAR
