BEGIN:VCALENDAR
VERSION:2.0
PRODID:icalendar-ruby
CALSCALE:GREGORIAN
BEGIN:VEVENT
DTSTAMP:20260420T153947Z
UID:11e61e5a-79ea-4bb4-8ef9-3e3321e45640
DTSTART:20260613T080000
DTEND:20260613T160000
DESCRIPTION:Jeden Samstag von 8.00 bis 16.00 Uhr Flohmarkt in Böblingen-Hu
 lb beim MarktkaufAufbau ab 7.00 Uhr\, sehr gut besuchter Flohmarkt durch d
 ie vielen Einkaufsmöglichkeiten um den Markt.Am verkaufsoffenen Sonntag A
 ufbau ab 10.00 Uhr\, Verkauf von 13.00 bis 18.00 Uhr9\,00 € für den lau
 fenden Frontmeter Trödel- und Gebrauchtwaren\, Neuware auf Anfrage. Auto 
 ab 3 m am Stand
LOCATION:Otto-Lilienthal-Straße 24 71034 Hulb
SUMMARY:Flohmarkt auf dem Marktkauf-Gelände
END:VEVENT
END:VCALENDAR
