BEGIN:VCALENDAR
VERSION:2.0
PRODID:icalendar-ruby
CALSCALE:GREGORIAN
BEGIN:VEVENT
DTSTAMP:20260423T004500Z
UID:35538d56-7c1e-46b7-b161-f02d9152a602
DTSTART:20260426T090000
DTEND:20260426T160000
DESCRIPTION:Antik- und Sammelmarkt am Berliner Ostbahnhof\nUnser Markt ist 
 regelmäßiger sonntäglicher Treffpunkt für die Antiquitäten und Sammle
 rszene der Stadt. Als kleine aber feste Institution bieten die 30-40 über
 wiegend professionellen Händler Briefmarken\, Ansichtskarten\, Münzen\, 
 papierene Dokumente\, Orden\, Fotographie\, Kunst und diverse Kleinantiqui
 täten. In Sachen Philatelie ist der Markt der Hauptumschlagsplatz und sei
 n Angebot in der Hauptstadt unübertroffen. Fazit: Kleiner chilliger Markt
  von Spezialisten für Spezialisten mit guten Verkaufs und Kaufchancen fü
 r Händler und leidenschaftliche Sammler mit Bedarf an Fachgespächen.
LOCATION:Erich-Steinfurth-Straße  10243 
SUMMARY:Antikmarkt Berlin Ostbahnhof
END:VEVENT
END:VCALENDAR
