BEGIN:VCALENDAR
VERSION:2.0
PRODID:icalendar-ruby
CALSCALE:GREGORIAN
BEGIN:VEVENT
DTSTAMP:20260424T050605Z
UID:3a87d711-ff7b-4d35-bfde-c32fbe304bcb
DTSTART:20260426T100000
DTEND:20260426T170000
DESCRIPTION: \nDER PLATZ DARF NICHT VOR DEM VERANSTALTER BEFAHREN WERDEN !
 !!
LOCATION:Simonshofer Straße  91220 
SUMMARY:Festplatz am Bürgerweiher
END:VEVENT
END:VCALENDAR
