BEGIN:VCALENDAR
VERSION:2.0
PRODID:icalendar-ruby
CALSCALE:GREGORIAN
BEGIN:VEVENT
DTSTAMP:20260424T045437Z
UID:ab21fdeb-74bf-4367-98c6-99e5d98d2f88
DTSTART:20260628T100000
DTEND:20260628T170000
DESCRIPTION: \nDER PLATZ DARF NICHT VOR DEM VERANSTALTER BEFAHREN WERDEN !
 !!
LOCATION:Simonshofer Straße  91220 
SUMMARY:Festplatz am Bürgerweiher
END:VEVENT
END:VCALENDAR
