BEGIN:VCALENDAR
VERSION:2.0
PRODID:icalendar-ruby
CALSCALE:GREGORIAN
BEGIN:VEVENT
DTSTAMP:20260424T032045Z
UID:c45b313c-5cd2-4430-be42-69a4dd73ffd4
DTSTART:20260830T100000
DTEND:20260830T170000
DESCRIPTION: \nDER PLATZ DARF NICHT VOR DEM VERANSTALTER BEFAHREN WERDEN !
 !!
LOCATION:Simonshofer Straße  91220 
SUMMARY:Festplatz am Bürgerweiher
END:VEVENT
END:VCALENDAR
