BEGIN:VCALENDAR
VERSION:2.0
PRODID:icalendar-ruby
CALSCALE:GREGORIAN
BEGIN:VEVENT
DTSTAMP:20260424T050141Z
UID:760f3041-3060-4269-9ce7-3341142bfc84
DTSTART:20261025T100000
DTEND:20261025T170000
DESCRIPTION: \nDER PLATZ DARF NICHT VOR DEM VERANSTALTER BEFAHREN WERDEN !
 !!
LOCATION:Simonshofer Straße  91220 
SUMMARY:Festplatz am Bürgerweiher
END:VEVENT
END:VCALENDAR
