BEGIN:VCALENDAR
VERSION:2.0
PRODID:icalendar-ruby
CALSCALE:GREGORIAN
BEGIN:VEVENT
DTSTAMP:20260424T204027Z
UID:92dc8653-af6e-4d3e-ac26-ad64adb61183
DTSTART:20260816T080000
DTEND:20260816T160000
DESCRIPTION:Riesenflohmarkt auf dem Parkplatz der Firma REWE und Thomas Phi
 lipps in Nürnberg Gebersdorf.\nDieser Platz befindet sich direkt an der G
 ebersdorfer Strasse 67.Komplett asphaltiert\nBushaltestelle"Großkraftwerk
  und Kuglerstrasse"befinden sich direkt vor der Türe\nErreichbar mit:Busl
 inie 67 von Nürnberg Frankenstrasseoder Fürth Hauptbahnhof\n sowie\nBus
 linie 69 von Nürnberg Gustav Adolf Strasse oder Röthenbach\nReservierung
  am Vortag. von 20 bis 21 Uhr direkt am Platzoder Sonntag früh ab 8 Uhr e
 infach kommen!!!!!!!!!!!!!!!!!!!\nTrödel: 5 Meter mit Auto oder Anhänger
  30\,00€Sie möchten einen kleinen Stand:Je Meter Trödel 5\,00€ Je Me
 ter Neuware 8\,00€\nGrundgebühr an Sonntags und Feiertagsmärkten pro S
 tand: 3 Euro\nTermindaueransage: 0911 - 32 96 23Bei weiteren Fragen erreic
 hen Sie uns unterThomas: 0175 - 20 80 762 oder Dani: 0175 - 24 68 169\nJet
 zt gleich Platz sichern!!!Onlinereservierung unter:www.troedelteam-graage.
 de / Onlinereservierung\nLasst uns doch bitte unter https://www.facebook.c
 om/troedelteam.graage/ Euer Like da.
LOCATION:Gebersdorfer Straße 67 90449 West
SUMMARY:Flohmarkt / Trödelmarkt REWE/Thomas Philipps Nürnberg Gebersdorfe
 r Strasse
END:VEVENT
END:VCALENDAR
