BEGIN:VCALENDAR
VERSION:2.0
PRODID:icalendar-ruby
CALSCALE:GREGORIAN
BEGIN:VEVENT
DTSTAMP:20260424T142835Z
UID:07138272-d256-4c1a-a404-81d6adde3e25
DTSTART:20260920T110000
DTEND:20260920T160000
DESCRIPTION:Weiberkram Mädelsflohmarkt \nSchützenhof\, Schützenplatz 1\
 , 33102 Paderborn\nDieser Moment\, in dem du deinen vollen Kleiderschrank 
 öffnest und du einfach nichts zum Anziehen findest. Das ist der Moment\, 
 in dem du einen Weiberkram in deiner Nähe aufsuchen solltest. Melde dich 
 jetzt für einen eigenen Stand an und werde deine wohlgehüteten Schätzch
 en an dankbare Käuferinnen los. Oder plane schon mal den nächsten Ausflu
 g zum Weiberkram für volle Tüten und frischen Wind im Kleiderschrank!\nF
 ette Beute\, große Meute\, ausschließlich nette Leute – darauf habt ih
 r Bock? Wir auch und deshalb steigt am Sonntag im Schützenhof auf 2000 qm
  der Weiberkram Mädelsflohmarkt der Superlative. Einen Sonntag lang wird 
 Paderborn zum Treffpunkt für alle modeverrückten Mädels\, die heiß sin
 d auf die Fehlkäufe der Anderen. Einst Liebgehabtes sucht an über 100 St
 änden genau so ein neues Zuhause wie Nichtmehrpassendes.\nLecker was zu f
 uttern gibt es auch. Kaltes und Warmes gegen den Durst ebenfalls.\n \nAll
 e Anmeldungen für einen Stand NUR unter www.weiberkram.org
LOCATION:Schützenplatz 1 33102 
SUMMARY:WEIBERKRAM Mädelsflohmarkt - PADERBORN ❤❤
END:VEVENT
END:VCALENDAR
