BEGIN:VCALENDAR
VERSION:2.0
PRODID:icalendar-ruby
CALSCALE:GREGORIAN
BEGIN:VEVENT
DTSTAMP:20260426T031031Z
UID:b9dd41a3-9010-4a57-b366-b2fcdc53597d
DTSTART:20261101T083000
DTEND:20261101T160000
DESCRIPTION:Haben Sie Interesse? Dann sichern Sie sich unter 04102/31939 o
 der auf unserer Internetseite www.hochberg-flohmarkt.de Ihren persönlich
 en Flohmarktstand.\n \nWir präsentieren Ihnen hier unseren Flohmarkt im 
 Parkhaus des REWE-Centers H. Stanislawski &amp\; A. Laas in Hamburg-Winter
 hude.Dieser Flohmarkt ist absolut wetterunabhängig\, da er komplett über
 dacht und dazu noch windgeschützt ist. Außerdem bietet das obere Stockwe
 rk des Parkhauses eine ideale Parkfläche für Aussteller und Besucher.Ham
 burg-Winterhude pflegt einen hamburger Kultcharakter\, den dieser Flohmark
 t untermalen soll. Dies gelingt uns\, indem wir lediglich private Ausstell
 er zulassen und den Verkauf von Neuware untersagen.Anfahrt mit öffentlich
 en Verkehrsmitteln:Mit der Buslinie 109 ab Bf. Dammtor in Richtung Alsterd
 orf bis zur Haltestelle Maria-Louisen-Straße oder mit der Buslinie 25 ab 
 U-Bahn Sierichstraße in Richtung Sachsenstraße bis zur Haltestelle Dorot
 heenstraße \nPreise:lfd. Meter ohne PKW: 13\,00 €\, lfd. Meter mit PKW
 : 15\,00 €Überdachung 3\,00 € extra pro lfd. Meter
LOCATION:Krohnskamp 21-33 22301 Hamburg-Nord
SUMMARY:REWE HH-Winterhude Stanislawski u. Laas  
END:VEVENT
END:VCALENDAR
