BEGIN:VCALENDAR
VERSION:2.0
PRODID:icalendar-ruby
CALSCALE:GREGORIAN
BEGIN:VEVENT
DTSTAMP:20260420T152418Z
UID:0a385d98-de22-444a-a2a7-af5176f83849
DTSTART:20260503T110000
DTEND:20260503T160000
DESCRIPTION:Großer Trödelmarkt auf dem Parkplatz Kaufland ehem. real\,-\;
  Römerstraße in Moers-Hochstraß.\nInfos unter www.richter-troedelmaerkt
 e.de
LOCATION:Römerstraße 572 47443 
SUMMARY:Kaufland ehem. Real Römerstraße
END:VEVENT
END:VCALENDAR
