BEGIN:VCALENDAR
VERSION:2.0
PRODID:icalendar-ruby
CALSCALE:GREGORIAN
BEGIN:VEVENT
DTSTAMP:20260420T152417Z
UID:93b62e50-1549-4986-b832-543129efda15
DTSTART:20260705T110000
DTEND:20260705T160000
DESCRIPTION:Großer Trödelmarkt auf dem Parkplatz Kaufland ehem. real\,-\;
  Römerstraße in Moers-Hochstraß.\nInfos unter www.richter-troedelmaerkt
 e.de
LOCATION:Römerstraße 572 47443 
SUMMARY:Kaufland ehem. Real Römerstraße
END:VEVENT
END:VCALENDAR
