BEGIN:VCALENDAR
VERSION:2.0
PRODID:icalendar-ruby
CALSCALE:GREGORIAN
BEGIN:VEVENT
DTSTAMP:20260420T134751Z
UID:d96aef10-f6b4-43e6-87ac-e29b62c46871
DTSTART:20260906T110000
DTEND:20260906T160000
DESCRIPTION:Großer Trödelmarkt auf dem Parkplatz Kaufland ehem. real\,-\;
  Römerstraße in Moers-Hochstraß.\nInfos unter www.richter-troedelmaerkt
 e.de
LOCATION:Römerstraße 572 47443 
SUMMARY:Kaufland ehem. Real Römerstraße
END:VEVENT
END:VCALENDAR
