BEGIN:VCALENDAR
VERSION:2.0
PRODID:icalendar-ruby
CALSCALE:GREGORIAN
BEGIN:VEVENT
DTSTAMP:20260421T090206Z
UID:f712b309-fd13-4e41-bfa0-1fa068cec6e0
DTSTART:20260510T083000
DTEND:20260510T160000
DESCRIPTION:Haben Sie Interesse? Dann sichern Sie sich unter 04102/31939 o
 der auf unserer Internetseite www.hochberg-flohmarkt.de Ihren persönlich
 en Flohmarktstand.\n \nOrt: Carl-Backhaus-Straße 46\, 22926 Ahrensburg P
 reis: lfd. m ohne Auto EUR 13\,00\; mit Auto EUR 15\,00\; Dach 3\,00 EUR A
 ufschlag pro lfd. M. Aufbau: 07:00 - 08:30\nKurzbeschreibung: Der famila-M
 arkt Ahrensburg ist unser Traditionsmarkt in Ahrensburg. Wir bieten Ihnen 
 natürlich auch an unserem Firmensitz einen tollen Flohmarkt an! Die teilw
 eise überdachte Fläche hält für Käufer immer schöne Überraschungen 
 bereit und für Verkäufer immer genügend Kaufinteressenten. Ahrensburg i
 st durch seine nähe zu Hamburg und zu Lübeck direkt an der A1 ein exzell
 enter Veranstaltungsort.
LOCATION:Carl-Backhaus-Straße 46-48 22926 
SUMMARY:famila Ahrensburg
END:VEVENT
END:VCALENDAR
