BEGIN:VCALENDAR
VERSION:2.0
PRODID:icalendar-ruby
CALSCALE:GREGORIAN
BEGIN:VEVENT
DTSTAMP:20260420T083258Z
UID:a55b406d-1e12-4700-b488-90d46e635417
DTSTART:20261219T090000
DTEND:20261219T160000
DESCRIPTION:Großer\, gut besuchter Hallenflohmarkt! Tolle überregional be
 kannte Location! Standmiete € 10\,- pro Meter in der Mitte\, € 14\,- p
 ro Meter an der Wand! Tische (ca. 2m lang) können für € 6\,- gestellt 
 werden! Natürlich kann man auch eigene Tische mitbringen und verwenden! S
 tühle sind kostenlos vorhanden! Aufbau ab 7:30 Uhr! Anmeldung per Mail: i
 nfo@geros-flohmarkt.de oder telefonisch unter Tel.: 0172- 7976002! Bis dan
 n!\n \n 
LOCATION:Güttinger Straße 19A 78315 
SUMMARY:Radolfzell\, Milchwerk\, großer Hallenflohmarkt\, findet statt! Au
 ssteller bitte anmelden!
END:VEVENT
END:VCALENDAR
