BEGIN:VCALENDAR
VERSION:2.0
PRODID:icalendar-ruby
CALSCALE:GREGORIAN
BEGIN:VEVENT
DTSTAMP:20260421T125245Z
UID:7b45b176-013b-4248-9d47-63b5b561df46
DTSTART:20261004T083000
DTEND:20261004T160000
DESCRIPTION:Haben Sie Interesse? Dann sichern Sie sich unter 04102/31939 o
 der auf unserer Internetseite www.hochberg-flohmarkt.de Ihren persönlich
 en Flohmarktstand.\n \nPreise:lfd. Meter ohne PKW: 11\,00 €\, lfd. Mete
 r mit PKW: 13\,00 €Aufschläge: lfd. Meter Neuware: 10\,00 €\, lfd. Me
 ter Dach: 0\,00 € (bei Vorbuchung)\n \nDieser neue Flohmarkt auf dem fa
 mila-Gelände in Reinfeld besticht durch seine perfekte Lage direkt an der
  Autobahn 1 und die Nähe zu Lübeck sowie Bad Oldesloe. Die großzügige 
 Überdachung bietet auch bei nicht perfektem Wetter beste Voraussetzung f
 ür einen optimalen Flohmarkttag.Bei einer Vorreservierung (online oder te
 lefonisch) ist die Überdachung kostenlos!Wir würden uns freuen\, Sie auf
  unserem Flohmarkt begrüßen zu dürfen.Anfahrt mit öffentlichen Verkehr
 smitteln:Ab Regionalbahnhof Reinfeld (Holst.) Buslinie 8130 Richtung Lübe
 ck-Buntekuh bis Groß Barnitz\, Abzweigung Lokfeld. Dann 3 Min. zu Fuß. M
 it dem Auto Autobahnabfahrt Reinfeld (A1)
LOCATION:Barnitzer Straße 1 23858 Stubbendorf
SUMMARY:famila Reinfeld
END:VEVENT
END:VCALENDAR
