BEGIN:VCALENDAR
VERSION:2.0
PRODID:icalendar-ruby
CALSCALE:GREGORIAN
BEGIN:VEVENT
DTSTAMP:20260421T013621Z
UID:1f38dd98-994a-47cb-94b9-d148ed0312e9
DTSTART:20260829T080000
DTEND:20260829T160000
DESCRIPTION: \nParkpl.ehem.Gasthof Nollhof\nvon 08°°-16°° Uhr\nlaufend
 e Meter 9.- € \nAuto am Stand !!!\nKeine Anmeldung erforderlich !!!\nNeu
 ware unerwünscht !!!
LOCATION:Nollhofstraße 1 72488 Nollhof
SUMMARY:Parkpl.Gasthof Nollhof
END:VEVENT
END:VCALENDAR
