BEGIN:VCALENDAR
VERSION:2.0
PRODID:icalendar-ruby
CALSCALE:GREGORIAN
BEGIN:VEVENT
DTSTAMP:20260425T000213Z
UID:41d4b35e-ef65-427c-80b0-0567ff08549e
DTSTART:20260425T110000
DTEND:20260425T180000
DESCRIPTION:Tausende von Besuchern strömen an diesem Wochenende nach Elzac
 h\, wenn hier wieder der „Schwarzwald | Heimat | Markt“ und unser Alts
 tadt-Antikmarkt stattfinden. Auch ein verkaufsoffener Sonntag lädt zum Bu
 mmeln und Stöbern ein.
LOCATION:Rathausgasse  79215 
SUMMARY:Altstadt Antikmarkt Elzach im Schwarzwald
END:VEVENT
END:VCALENDAR
