BEGIN:VCALENDAR
VERSION:2.0
PRODID:icalendar-ruby
CALSCALE:GREGORIAN
BEGIN:VEVENT
DTSTAMP:20260424T220518Z
UID:598a6d58-0eaf-44c0-a70a-7d4ca7f14b96
DTSTART:20260426T110000
DTEND:20260426T180000
DESCRIPTION:Tausende von Besuchern strömen an diesem Wochenende nach Elzac
 h\, wenn hier wieder der „Schwarzwald | Heimat | Markt“ und unser Alts
 tadt-Antikmarkt stattfinden. Auch ein verkaufsoffener Sonntag lädt zum Bu
 mmeln und Stöbern ein.
LOCATION:Rathausgasse  79215 
SUMMARY:Altstadt Antikmarkt Elzach im Schwarzwald
END:VEVENT
END:VCALENDAR
